BEGIN:VCALENDAR
VERSION:2.0
PRODID:icalendar-ruby
CALSCALE:GREGORIAN
METHOD:PUBLISH
BEGIN:VEVENT
DTSTAMP:20260424T015853Z
UID:24-226045@419life.net
DTSTART:20260516T220000Z
DTEND:20260517T000000Z
CLASS:PUBLIC
CREATED:20260423T155627
DESCRIPTION:Join us for a Church Family Night + Baptisms!\nBring your favor
 ite Italian dish and come ready for a night of fellowship\, Food\, Movie a
 nd Fun!\nMission House 4085 I-35\, Lytle\, TX 78052\nSaturday\, May 16\, 2
 026 from 5-7PM
LAST-MODIFIED:20260423T155627
LOCATION:Mission House 4085 I-35\, Lytle\, TX 78052
SUMMARY:Church Family Night 
URL;VALUE=URI:https://419life.net/events/church-family-night--24/2026-05-16
ATTACH;FILENAME=Red-and-White-Typographic-Italian-Pasta-Poster-4.png;FMTTYP
 E=image/png:https://dq5pwpg1q8ru0.cloudfront.net/2026/04/23/20/51/22/c5acd
 e4e-e730-42e3-ac2e-760c6102f8e2/Red-and-White-Typographic-Italian-Pasta-Po
 ster-4.png
END:VEVENT
END:VCALENDAR
